BEGIN:VCALENDAR
VERSION:2.0
PRODID:-//Tukios.com/
BEGIN:VEVENT
UID:cff8a4b9-99bc-4c44-9778-cb8562f8c950@www.goglinfh.com
DTSTAMP:20260421T060242Z
DTSTART:20260426T220000Z
DTEND:20260427T000000Z
SUMMARY:Visitation
DESCRIPTION:
URL:https://www.goglinfh.com/obituaries/john-sedlacek
LOCATION:  930 3rd St  Scotland SD 57059
GEO:43.1461677;-97.718085
END:VEVENT
END:VCALENDAR