BEGIN:VCALENDAR
VERSION:2.0
PRODID:-//Tukios.com/
BEGIN:VEVENT
UID:72e58f9f-a7b3-435f-a479-92d04392189b@www.goglinfh.com
DTSTAMP:20260421T055940Z
DTSTART:20260427T000000Z
DTEND:20260427T010000Z
SUMMARY:Rosary
DESCRIPTION:
URL:https://www.goglinfh.com/obituaries/john-sedlacek
LOCATION:  930 3rd St  Scotland SD 57059
GEO:43.1461677;-97.718085
END:VEVENT
END:VCALENDAR