BEGIN:VCALENDAR
VERSION:2.0
PRODID:-//Tukios.com/
BEGIN:VEVENT
UID:6fb9c153-b77e-4444-9090-e4a19f127833@www.goglinfh.com
DTSTAMP:20260421T055719Z
DTSTART:20260426
SUMMARY:Vigil Service
DESCRIPTION:Directly following Rosary
URL:https://www.goglinfh.com/obituaries/john-sedlacek
LOCATION:  930 3rd St  Scotland SD 57059
GEO:43.1461677;-97.718085
END:VEVENT
END:VCALENDAR