BEGIN:VCALENDAR
VERSION:2.0
PRODID:-//Tukios.com/
BEGIN:VEVENT
UID:52935b64-b2d1-4112-950d-b32b4f636a1e@www.goglinfh.com
DTSTAMP:20260421T060242Z
DTSTART:20260427T153000Z
DTEND:20260427T163000Z
SUMMARY:Funeral Mass
DESCRIPTION:
URL:https://www.goglinfh.com/obituaries/john-sedlacek
LOCATION:  930 3rd St  Scotland SD 57059
GEO:43.1461677;-97.718085
END:VEVENT
END:VCALENDAR