BEGIN:VCALENDAR
VERSION:2.0
PRODID:-//Tukios.com/
BEGIN:VEVENT
UID:88aeed8f-edc7-4de6-8d17-0e2156f7daf0@www.goglinfh.com
DTSTAMP:20260421T060216Z
DTSTART:20260427
SUMMARY:Burial
DESCRIPTION:Directly Following Funeral Mass
URL:https://www.goglinfh.com/obituaries/john-sedlacek
LOCATION: Dollard St. and 6th St.  Scotland SD 57059
GEO:43.1548664;-97.7134847
END:VEVENT
END:VCALENDAR